BEGIN:VCALENDAR
VERSION:2.0
PRODID:-//National Czech &amp; Slovak Museum &amp; Library - ECPv5.2.1//NONSGML v1.0//EN
CALSCALE:GREGORIAN
METHOD:PUBLISH
X-WR-CALNAME:National Czech &amp; Slovak Museum &amp; Library
X-ORIGINAL-URL:https://ncsml.org
X-WR-CALDESC:Events for National Czech &amp; Slovak Museum &amp; Library
BEGIN:VTIMEZONE
TZID:America/Chicago
BEGIN:DAYLIGHT
TZOFFSETFROM:-0600
TZOFFSETTO:-0500
TZNAME:CDT
DTSTART:20160313T080000
END:DAYLIGHT
BEGIN:STANDARD
TZOFFSETFROM:-0500
TZOFFSETTO:-0600
TZNAME:CST
DTSTART:20161106T070000
END:STANDARD
END:VTIMEZONE
BEGIN:VEVENT
DTSTART;TZID=America/Chicago:20160806T093000
DTEND;TZID=America/Chicago:20160806T160000
DTSTAMP:20210625T053954
CREATED:20151219T193328Z
LAST-MODIFIED:20151219T193328Z
UID:10680-1470475800-1470499200@ncsml.org
SUMMARY:An Andy Warhol Birthday Celebration (Family Free Day)
DESCRIPTION:  \n \nSAVE THE DATE! \nYour whole family is invited to the National Czech & Slovak Museum & Library in honor of Andy Warhol’s 88th birthday! Join us for a day of Pop Art-inspired activities\, edibles\, and live music at the museum. Also enjoy free admission to the NCSML’s galleries\, including the spectacular Warhol exhibition! \nPerformances\n10:00am – 12:00pm: The Deep Dish Divas\nDishin’ up an eclectic mix of vintage novelties\, folk\, swing\, traditional\, a cappella and more! \n12:30pm – 1:00pm: Warhol Vintage Fashion Show with Copper Alligator & Rawson’s Daughter\nAdmire some family-friendly vintage fashion with a Warhol twist!\n2:00pm – 3:00pm: Cowboy Randy Erwin\nCowboy music\, folklore\, and history – plus rope tricks! \nFamily Activities\n9:30am – 4:00pm: Museum Store and exhibits open\, including Faces of Freedom: The Czech and Slovak Journey\, Immortal: Warhol’s Last Works\, the Sleger Immigrant Home\, and more\n9:30am – 4:00pm: Community Mural Project – What is Culture?\n9:30am – 4:00pm: Make Pop Art-inspired crafts throughout the museum!\n1:00pm – 2:00pm: Pollinators: They’re the Bee’s Knees! Kids and parents will learn about the importance of bees and other pollinators in the NCSML’s Czech and Slovak Heritage Garden from museum staff and Adam from Ebert Honey! Make seed bombs to plant at home to encourage pollination\, then try a sweet treat from Ebert Honey.\n1:00pm – 4:00pm: University of Iowa Mobile Museum \nDemonstrations\n10:00am – 2:00pm: Chalk artist Kimberli Maloy will be creating Warhol-inspired sidewalk art.\n10:00am – 3:00pm: EduSkate live t-shirt printing demonstration. Plus\, you can purchase your own commemorative shirt from Andy’s birthday party! \nFood\nFlip ‘n’ Chop Food Truck\, serving up Czech and Slovak-style dishes.\nThe Wright Touch Catering & Bake Shoppe\, ready to satisfy your sweet tooth with Pop Art-inspired treats.\nThe Great American Popcorn Company will have a special Andy Warhol popcorn mix! \nCanned Food Drive for the Catherine McAuley Center\nWhile you’re at the NCSML for this event\, consider bringing canned goods for charity! Whether it’s Campbell’s soup\, like one of Warhol’s most famous works\, or a can of vegetables\, your appreciated donation will go to the food bank at the Catherine McAuley Center. Their mission is to offer hope and opportunity through basic education for adults and transitional housing for women. Here is a wish list of items they need the most. Please do not bring expired food. \nMORE TO BE ADDED TO THE SCHEDULE SOON. \nEvent Partners:\nUniversity of Iowa Mobile Museum\nObermann Center for Advanced Studies\nCatherine McAuley Center\nCopper Alligator\nRawson’s Daughter\nEbert Honey \nAn Andy Warhol Birthday Celebration\, a family free day\, is generously sponsored by:\nWells Fargo (Presenting Sponsor)\nCRST International (Contributing Sponsor)\n\n \n \nFree First Saturdays for Students are generously sponsored by United Fire Group.\n \n  \n 
URL:https://ncsml.org/event/an-andy-warhol-birthday-celebration/
LOCATION:National Czech & Slovak Museum & Library\, 1400 Inspiration Pl SW\, Cedar Rapids\, IA\, 52404\, United States
CATEGORIES:Family,Food
ATTACH;FMTTYPE=:
GEO:41.9661675;-91.6617761
X-APPLE-STRUCTURED-LOCATION;VALUE=URI;X-ADDRESS=National Czech & Slovak Museum & Library 1400 Inspiration Pl SW Cedar Rapids IA 52404 United States;X-APPLE-RADIUS=500;X-TITLE=1400 Inspiration Pl SW:geo:-91.6617761,41.9661675
END:VEVENT
END:VCALENDAR