BEGIN:VCALENDAR
VERSION:2.0
PRODID:-//National Czech &amp; Slovak Museum &amp; Library - ECPv5.2.1//NONSGML v1.0//EN
CALSCALE:GREGORIAN
METHOD:PUBLISH
X-WR-CALNAME:National Czech &amp; Slovak Museum &amp; Library
X-ORIGINAL-URL:https://ncsml.org
X-WR-CALDESC:Events for National Czech &amp; Slovak Museum &amp; Library
BEGIN:VTIMEZONE
TZID:America/Chicago
BEGIN:DAYLIGHT
TZOFFSETFROM:-0600
TZOFFSETTO:-0500
TZNAME:CDT
DTSTART:20210314T080000
END:DAYLIGHT
BEGIN:STANDARD
TZOFFSETFROM:-0500
TZOFFSETTO:-0600
TZNAME:CST
DTSTART:20211107T070000
END:STANDARD
END:VTIMEZONE
BEGIN:VEVENT
DTSTART;TZID=America/Chicago:20210917T173000
DTEND;TZID=America/Chicago:20210917T213000
DTSTAMP:20210922T082428
CREATED:20210628T165602Z
LAST-MODIFIED:20210916T222746Z
UID:39694-1631899800-1631914200@ncsml.org
SUMMARY:BrewNost
DESCRIPTION:NCSML is excited to announce the return of BrewNost on September 17\, 2021\, back in person and better than ever! BrewNost is the Midwest’s premier international beer festival that supports the educational and cultural mission of the National Czech & Slovak Museum & Library. Join us for an outdoor event featuring unlimited food and beverage from some of the area’s finest restaurants\, local breweries and distilleries\, along with international beers\, wine\, and spirits. The evening will be filled with live music\, a silent and a live auction\, and the drawing of a new BrewNost raffle grand prize\, a trip to Slovakia! \nVIP hour begins at 5:30 p.m. with General Admission opening at 6:30 p.m. \nVIP $125\nGeneral Admission $75\nDesignated Driver $50\nBrewNost raffle ticket $10 \nTickets to attend BrewNost are now closed online\, but you can buy tickets in person at NCSML. \nThank you to our presenting sponsors Basepoint Wealth\, LLC and GreatAmerica Financial Services for their support of BrewNost. \nFull BrewNost Details
URL:https://ncsml.org/event/brewnost2021/
LOCATION:National Czech & Slovak Museum & Library\, 1400 Inspiration Pl SW\, Cedar Rapids\, IA\, 52404\, United States
CATEGORIES:Annual Events,Food
ATTACH;FMTTYPE=image/jpeg:https://ncsml.org/wp-content/uploads/2021/06/BrewNostLogo_202-01-scaled.jpg
GEO:41.9661675;-91.6617761
X-APPLE-STRUCTURED-LOCATION;VALUE=URI;X-ADDRESS=National Czech & Slovak Museum & Library 1400 Inspiration Pl SW Cedar Rapids IA 52404 United States;X-APPLE-RADIUS=500;X-TITLE=1400 Inspiration Pl SW:geo:-91.6617761,41.9661675
END:VEVENT
END:VCALENDAR