BEGIN:VCALENDAR
VERSION:2.0
PRODID:-//National Czech &amp; Slovak Museum &amp; Library - ECPv5.2.1//NONSGML v1.0//EN
CALSCALE:GREGORIAN
METHOD:PUBLISH
X-WR-CALNAME:National Czech &amp; Slovak Museum &amp; Library
X-ORIGINAL-URL:https://ncsml.org
X-WR-CALDESC:Events for National Czech &amp; Slovak Museum &amp; Library
BEGIN:VTIMEZONE
TZID:America/Chicago
BEGIN:DAYLIGHT
TZOFFSETFROM:-0600
TZOFFSETTO:-0500
TZNAME:CDT
DTSTART:20170312T080000
END:DAYLIGHT
BEGIN:STANDARD
TZOFFSETFROM:-0500
TZOFFSETTO:-0600
TZNAME:CST
DTSTART:20171105T070000
END:STANDARD
END:VTIMEZONE
BEGIN:VEVENT
DTSTART;VALUE=DATE:20171224
DTEND;VALUE=DATE:20171225
DTSTAMP:20210704T235719
CREATED:20170914T180142Z
LAST-MODIFIED:20170914T180142Z
UID:27014-1514073600-1514159999@ncsml.org
SUMMARY:Closed for Christmas Eve
DESCRIPTION:The National Czech & Slovak Museum & Library will be closed for Christmas Eve on Sunday\, December 24.
URL:https://ncsml.org/event/closed-christmas-eve/
ORGANIZER;CN="National%20Czech%20%26%20Slovak%20Museum%20%26%20Library":MAILTO:info@ncsml.org
END:VEVENT
END:VCALENDAR