BEGIN:VCALENDAR
VERSION:2.0
PRODID:-//National Czech &amp; Slovak Museum &amp; Library - ECPv5.2.1//NONSGML v1.0//EN
CALSCALE:GREGORIAN
METHOD:PUBLISH
X-WR-CALNAME:National Czech &amp; Slovak Museum &amp; Library
X-ORIGINAL-URL:https://ncsml.org
X-WR-CALDESC:Events for National Czech &amp; Slovak Museum &amp; Library
BEGIN:VTIMEZONE
TZID:America/Chicago
BEGIN:DAYLIGHT
TZOFFSETFROM:-0600
TZOFFSETTO:-0500
TZNAME:CDT
DTSTART:20210314T080000
END:DAYLIGHT
BEGIN:STANDARD
TZOFFSETFROM:-0500
TZOFFSETTO:-0600
TZNAME:CST
DTSTART:20211107T070000
END:STANDARD
END:VTIMEZONE
BEGIN:VEVENT
DTSTART;TZID=America/Chicago:20211105T130000
DTEND;TZID=America/Chicago:20211105T140000
DTSTAMP:20210922T082342
CREATED:20210427T155353Z
LAST-MODIFIED:20210819T160213Z
UID:39411-1636117200-1636120800@ncsml.org
SUMMARY:Coffee and Kolach
DESCRIPTION:Brew a pot of coffee\, powder your kolaches\, and join NCSML each first Friday of the month for Coffee & Kolach! Each month we’ll be discussing a different topic via Facebook Live. \nCost: Free Facebook Live Program \nJoin us on Facebook Live
URL:https://ncsml.org/event/coffee-and-kolach/2021-11-05/
CATEGORIES:Home Page
ATTACH;FMTTYPE=image/jpeg:https://ncsml.org/wp-content/uploads/2021/04/Coffee-and-kolaches-singular-final-logo-feature.jpg
END:VEVENT
END:VCALENDAR