BEGIN:VCALENDAR
VERSION:2.0
PRODID:-//National Czech &amp; Slovak Museum &amp; Library - ECPv5.2.1//NONSGML v1.0//EN
CALSCALE:GREGORIAN
METHOD:PUBLISH
X-WR-CALNAME:National Czech &amp; Slovak Museum &amp; Library
X-ORIGINAL-URL:https://ncsml.org
X-WR-CALDESC:Events for National Czech &amp; Slovak Museum &amp; Library
BEGIN:VTIMEZONE
TZID:America/Chicago
BEGIN:DAYLIGHT
TZOFFSETFROM:-0600
TZOFFSETTO:-0500
TZNAME:CDT
DTSTART:20170312T080000
END:DAYLIGHT
BEGIN:STANDARD
TZOFFSETFROM:-0500
TZOFFSETTO:-0600
TZNAME:CST
DTSTART:20171105T070000
END:STANDARD
END:VTIMEZONE
BEGIN:VEVENT
DTSTART;TZID=America/Chicago:20171216T130000
DTEND;TZID=America/Chicago:20171216T133000
DTSTAMP:20210704T235706
CREATED:20170913T203358Z
LAST-MODIFIED:20170913T203358Z
UID:26997-1513429200-1513431000@ncsml.org
SUMMARY:Falcons\, Freedom\, and Backflips – A Guided Tour of ‘Twists and Turns: The Story of Sokol’
DESCRIPTION:What is Sokol? Why was it once banned by the Communists? Which athlete in Twists and Turns: The\nStory of Sokol has the most dashing moustache? Join us for an interactive tour of this new exhibit\, and learn about the history of an organization that helped to build strong Czech\, Slovak\, and American communities. This tour includes some fun and easy audience participation. All ages and abilities are welcome! \nThis tour lasts between 30-45 minutes and meets outside Smith Gallery. \n[su_button url=”https://interland3.donorperfect.net/weblink/WebLink.aspx?name=E82716&id=258″ style=”flat” background=”#9a0900″ color=”#ffffff” size=”8″ icon_color=”#8a0606″]RSVP Here[/su_button]
URL:https://ncsml.org/event/falcons-freedom-backflips-guided-tour-twists-turns-story-sokol-4/
ORGANIZER;CN="National%20Czech%20%26%20Slovak%20Museum%20%26%20Library":MAILTO:info@ncsml.org
END:VEVENT
END:VCALENDAR