BEGIN:VCALENDAR
VERSION:2.0
PRODID:-//National Czech &amp; Slovak Museum &amp; Library - ECPv5.2.1//NONSGML v1.0//EN
CALSCALE:GREGORIAN
METHOD:PUBLISH
X-WR-CALNAME:National Czech &amp; Slovak Museum &amp; Library
X-ORIGINAL-URL:https://ncsml.org
X-WR-CALDESC:Events for National Czech &amp; Slovak Museum &amp; Library
BEGIN:VTIMEZONE
TZID:America/Chicago
BEGIN:DAYLIGHT
TZOFFSETFROM:-0600
TZOFFSETTO:-0500
TZNAME:CDT
DTSTART:20170312T080000
END:DAYLIGHT
BEGIN:STANDARD
TZOFFSETFROM:-0500
TZOFFSETTO:-0600
TZNAME:CST
DTSTART:20171105T070000
END:STANDARD
END:VTIMEZONE
BEGIN:VEVENT
DTSTART;TZID=America/Chicago:20171216T140000
DTEND;TZID=America/Chicago:20171216T153000
DTSTAMP:20210704T235649
CREATED:20170913T203149Z
LAST-MODIFIED:20170913T203149Z
UID:26996-1513432800-1513438200@ncsml.org
SUMMARY:Family Film: Three Nuts for Cinderella (Tři oříšky pro Popelku)
DESCRIPTION:$5 for general; $2 for 18 years or under. \nAn annual holiday tradition in many European countries\, and now at the National Czech & Slovak Museum & Library\, Three Nuts for Cinderella is a familiar fairytale with some unique twists. The film stars Libuše Šafránková as the title character\, a young woman who is treated terribly by her stepmother and stepsister. But soon a handsome prince comes knocking. Cinderella does not simply fall into the prince’s arms\, however. In this version\, he must actively pursue the young woman – who is a skilled sharpshooter prone to wearing hunting outfits. Cinderella also has three wish-granting magic hazelnuts at her disposal and an owl for a “fairy godmother.” Will the prince win her over in the end? \nThis film is in Czech with English subtitles. 83 minutes\, 1973. \n[su_button url=”https://interland3.donorperfect.net/weblink/WebLink.aspx?name=E82716&id=257″ style=”flat” background=”#9a0900″ color=”#ffffff” size=”12″ icon_color=”#8a0606″]Buy tickets[/su_button]
URL:https://ncsml.org/event/family-film-three-nuts-cinderella-tri-orisky-pro-popelku-2/
ORGANIZER;CN="National%20Czech%20%26%20Slovak%20Museum%20%26%20Library":MAILTO:info@ncsml.org
END:VEVENT
END:VCALENDAR