BEGIN:VCALENDAR
VERSION:2.0
PRODID:-//National Czech &amp; Slovak Museum &amp; Library - ECPv5.2.1//NONSGML v1.0//EN
CALSCALE:GREGORIAN
METHOD:PUBLISH
X-WR-CALNAME:National Czech &amp; Slovak Museum &amp; Library
X-ORIGINAL-URL:https://ncsml.org
X-WR-CALDESC:Events for National Czech &amp; Slovak Museum &amp; Library
BEGIN:VTIMEZONE
TZID:America/Chicago
BEGIN:DAYLIGHT
TZOFFSETFROM:-0600
TZOFFSETTO:-0500
TZNAME:CDT
DTSTART:20160313T080000
END:DAYLIGHT
BEGIN:STANDARD
TZOFFSETFROM:-0500
TZOFFSETTO:-0600
TZNAME:CST
DTSTART:20161106T070000
END:STANDARD
END:VTIMEZONE
BEGIN:VEVENT
DTSTART;TZID=America/Chicago:20160702T093000
DTEND;TZID=America/Chicago:20160702T160000
DTSTAMP:20210625T053935
CREATED:20151219T192643Z
LAST-MODIFIED:20151219T192643Z
UID:10679-1467451800-1467475200@ncsml.org
SUMMARY:Free First Saturdays for Students
DESCRIPTION:Beginning in 2016\, students of all ages (preschool through college) are invited to visit the NCSML’s exhibits for free on the first Saturday of each month during regular museum hours. College students must bring a current school ID card. Regular admission rates still apply to non-students. Members of the NCSML are always free. \nActivities for July 2:\nIt’s a big Cedar Rapids Freedom Festival weekend at the National Czech & Slovak Museum & Library! Show your patriotic spirit by making your own American flag craft\, or rocking a temporary tattoo at the museum to celebrate America’s birthday. Museum guests will also learn about the birthdays of other countries\, including the Czech Republic and Slovakia! \nPlus: Interactive “Unofficial Museum Tours” of Faces of Freedom: The Czech and Slovak Journey at 12:00pm and 2:00pm. \n  \n  \n  \nFree First Saturdays for Students are generously sponsored by United Fire Group.\n \n  \n 
URL:https://ncsml.org/event/free-first-saturdays-for-students-7/
LOCATION:National Czech & Slovak Museum & Library\, 1400 Inspiration Pl SW\, Cedar Rapids\, IA\, 52404\, United States
CATEGORIES:Family
ATTACH;FMTTYPE=:
ORGANIZER;CN="National%20Czech%20%26%20Slovak%20Museum%20%26%20Library":MAILTO:info@ncsml.org
GEO:41.9661675;-91.6617761
X-APPLE-STRUCTURED-LOCATION;VALUE=URI;X-ADDRESS=National Czech & Slovak Museum & Library 1400 Inspiration Pl SW Cedar Rapids IA 52404 United States;X-APPLE-RADIUS=500;X-TITLE=1400 Inspiration Pl SW:geo:-91.6617761,41.9661675
END:VEVENT
END:VCALENDAR