BEGIN:VCALENDAR
VERSION:2.0
PRODID:-//National Czech &amp; Slovak Museum &amp; Library - ECPv5.2.1//NONSGML v1.0//EN
CALSCALE:GREGORIAN
METHOD:PUBLISH
X-WR-CALNAME:National Czech &amp; Slovak Museum &amp; Library
X-ORIGINAL-URL:https://ncsml.org
X-WR-CALDESC:Events for National Czech &amp; Slovak Museum &amp; Library
BEGIN:VTIMEZONE
TZID:America/Chicago
BEGIN:DAYLIGHT
TZOFFSETFROM:-0600
TZOFFSETTO:-0500
TZNAME:CDT
DTSTART:20160313T080000
END:DAYLIGHT
BEGIN:STANDARD
TZOFFSETFROM:-0500
TZOFFSETTO:-0600
TZNAME:CST
DTSTART:20161106T070000
END:STANDARD
END:VTIMEZONE
BEGIN:VEVENT
DTSTART;TZID=America/Chicago:20161001T093000
DTEND;TZID=America/Chicago:20161001T160000
DTSTAMP:20210625T054012
CREATED:20151219T193817Z
LAST-MODIFIED:20151219T193817Z
UID:10683-1475314200-1475337600@ncsml.org
SUMMARY:CANCELLED - Free First Saturdays for Students
DESCRIPTION:This program will be cancelled due to flood cleanup in our neighborhood. The museum will reopen on Monday\, October 3. Please visit the NCSML.org home page for updated information. \nBeginning in 2016\, students of all ages (preschool through college) are invited to visit the NCSML’s exhibits for free on the first Saturday of each month during regular museum hours. College students must bring a current school ID card. Regular admission rates still apply to non-students. Members of the NCSML are always free. \nActivities for October 1:\nMonsters are at the museum! Witches and warlocks of all ages are invited to create their own paper monster puppets…if they dare. While exploring the exhibits\, snap a photo of the creepiest artifact and post it to Instagram using #NCSML. Tell us why you think it’s the creepiest artifact\, and you could win a prize from the Museum Store and be featured on the museum’s Facebook page. \n  \n  \n  \n  \nFree First Saturdays for Students are generously sponsored by United Fire Group.\n \n  \n 
URL:https://ncsml.org/event/free-first-saturdays-for-students-9/
LOCATION:National Czech & Slovak Museum & Library\, 1400 Inspiration Pl SW\, Cedar Rapids\, IA\, 52404\, United States
CATEGORIES:Family
ATTACH;FMTTYPE=:
GEO:41.9661675;-91.6617761
X-APPLE-STRUCTURED-LOCATION;VALUE=URI;X-ADDRESS=National Czech & Slovak Museum & Library 1400 Inspiration Pl SW Cedar Rapids IA 52404 United States;X-APPLE-RADIUS=500;X-TITLE=1400 Inspiration Pl SW:geo:-91.6617761,41.9661675
END:VEVENT
END:VCALENDAR