BEGIN:VCALENDAR
VERSION:2.0
PRODID:-//National Czech &amp; Slovak Museum &amp; Library - ECPv5.2.1//NONSGML v1.0//EN
CALSCALE:GREGORIAN
METHOD:PUBLISH
X-WR-CALNAME:National Czech &amp; Slovak Museum &amp; Library
X-ORIGINAL-URL:https://ncsml.org
X-WR-CALDESC:Events for National Czech &amp; Slovak Museum &amp; Library
BEGIN:VTIMEZONE
TZID:America/Chicago
BEGIN:DAYLIGHT
TZOFFSETFROM:-0600
TZOFFSETTO:-0500
TZNAME:CDT
DTSTART:20170312T080000
END:DAYLIGHT
BEGIN:STANDARD
TZOFFSETFROM:-0500
TZOFFSETTO:-0600
TZNAME:CST
DTSTART:20171105T070000
END:STANDARD
END:VTIMEZONE
BEGIN:VEVENT
DTSTART;TZID=America/Chicago:20171104T093000
DTEND;TZID=America/Chicago:20171104T160000
DTSTAMP:20210704T235600
CREATED:20170913T202844Z
LAST-MODIFIED:20170913T202844Z
UID:26995-1509787800-1509811200@ncsml.org
SUMMARY:Free First Saturdays for Students: Krazy Kraslice : Traditional Egg Decorating Craft
DESCRIPTION:Egg decorating is an important and beautiful part of Czech and Slovak culture. Normally it would be done with real egg shells\, wax\, and dyes\, a technique called kraslice (also the Czech word for Easter egg). Today we will be making our own kraslice-inspired egg crafts designed by Becky Popelka\, owner of Big Picture Gallery & Studio in Coralville.\nJoin us to explore this traditional craft for yourself! \nSponsored by United Fire Group and Ludivik & Katherine Svoboda.
URL:https://ncsml.org/event/free-first-saturdays-students-krazy-kraslice-traditional-egg-decorating-craft/
ORGANIZER;CN="National%20Czech%20%26%20Slovak%20Museum%20%26%20Library":MAILTO:info@ncsml.org
END:VEVENT
END:VCALENDAR