BEGIN:VCALENDAR
VERSION:2.0
PRODID:-//National Czech &amp; Slovak Museum &amp; Library - ECPv5.2.1//NONSGML v1.0//EN
CALSCALE:GREGORIAN
METHOD:PUBLISH
X-WR-CALNAME:National Czech &amp; Slovak Museum &amp; Library
X-ORIGINAL-URL:https://ncsml.org
X-WR-CALDESC:Events for National Czech &amp; Slovak Museum &amp; Library
BEGIN:VTIMEZONE
TZID:America/Chicago
BEGIN:DAYLIGHT
TZOFFSETFROM:-0600
TZOFFSETTO:-0500
TZNAME:CDT
DTSTART:20160313T080000
END:DAYLIGHT
BEGIN:STANDARD
TZOFFSETFROM:-0500
TZOFFSETTO:-0600
TZNAME:CST
DTSTART:20161106T070000
END:STANDARD
END:VTIMEZONE
BEGIN:VEVENT
DTSTART;TZID=America/Chicago:20160107T093000
DTEND;TZID=America/Chicago:20160107T143000
DTSTAMP:20210625T054059
CREATED:20160107T160745Z
LAST-MODIFIED:20160107T160745Z
UID:11232-1452159000-1452177000@ncsml.org
SUMMARY:Museum Galleries Closed Due to Special Event (9:30am - 2:30pm)
DESCRIPTION:January 7\, 2016\nThe NCSML exhibits will be closed to the public in the morning due to an event. The museum will reopen at 2:30pm with extended hours until 5:00pm.\nThank you for your understanding and flexibility. We look forward to seeing you in the afternoon!
URL:https://ncsml.org/event/museum-galleries-closed-due-to-private-event-930am-230pm/
LOCATION:National Czech & Slovak Museum & Library\, 1400 Inspiration Pl SW\, Cedar Rapids\, IA\, 52404\, United States
ORGANIZER;CN="National%20Czech%20%26%20Slovak%20Museum%20%26%20Library":MAILTO:info@ncsml.org
GEO:41.9661675;-91.6617761
X-APPLE-STRUCTURED-LOCATION;VALUE=URI;X-ADDRESS=National Czech & Slovak Museum & Library 1400 Inspiration Pl SW Cedar Rapids IA 52404 United States;X-APPLE-RADIUS=500;X-TITLE=1400 Inspiration Pl SW:geo:-91.6617761,41.9661675
END:VEVENT
END:VCALENDAR